BEGIN:VCALENDAR
VERSION:2.0
PRODID:-//Colorado Al-Anon/Alateen Family Groups - ECPv6.15.20//NONSGML v1.0//EN
CALSCALE:GREGORIAN
METHOD:PUBLISH
X-WR-CALNAME:Colorado Al-Anon/Alateen Family Groups
X-ORIGINAL-URL:https://al-anon-co.org
X-WR-CALDESC:Events for Colorado Al-Anon/Alateen Family Groups
REFRESH-INTERVAL;VALUE=DURATION:PT1H
X-Robots-Tag:noindex
X-PUBLISHED-TTL:PT1H
BEGIN:VTIMEZONE
TZID:America/Denver
BEGIN:DAYLIGHT
TZOFFSETFROM:-0700
TZOFFSETTO:-0600
TZNAME:MDT
DTSTART:20200308T090000
END:DAYLIGHT
BEGIN:STANDARD
TZOFFSETFROM:-0600
TZOFFSETTO:-0700
TZNAME:MST
DTSTART:20201101T080000
END:STANDARD
BEGIN:DAYLIGHT
TZOFFSETFROM:-0700
TZOFFSETTO:-0600
TZNAME:MDT
DTSTART:20210314T090000
END:DAYLIGHT
BEGIN:STANDARD
TZOFFSETFROM:-0600
TZOFFSETTO:-0700
TZNAME:MST
DTSTART:20211107T080000
END:STANDARD
BEGIN:DAYLIGHT
TZOFFSETFROM:-0700
TZOFFSETTO:-0600
TZNAME:MDT
DTSTART:20220313T090000
END:DAYLIGHT
BEGIN:STANDARD
TZOFFSETFROM:-0600
TZOFFSETTO:-0700
TZNAME:MST
DTSTART:20221106T080000
END:STANDARD
BEGIN:DAYLIGHT
TZOFFSETFROM:-0700
TZOFFSETTO:-0600
TZNAME:MDT
DTSTART:20230312T090000
END:DAYLIGHT
BEGIN:STANDARD
TZOFFSETFROM:-0600
TZOFFSETTO:-0700
TZNAME:MST
DTSTART:20231105T080000
END:STANDARD
BEGIN:DAYLIGHT
TZOFFSETFROM:-0700
TZOFFSETTO:-0600
TZNAME:MDT
DTSTART:20240310T090000
END:DAYLIGHT
BEGIN:STANDARD
TZOFFSETFROM:-0600
TZOFFSETTO:-0700
TZNAME:MST
DTSTART:20241103T080000
END:STANDARD
BEGIN:DAYLIGHT
TZOFFSETFROM:-0700
TZOFFSETTO:-0600
TZNAME:MDT
DTSTART:20250309T090000
END:DAYLIGHT
BEGIN:STANDARD
TZOFFSETFROM:-0600
TZOFFSETTO:-0700
TZNAME:MST
DTSTART:20251102T080000
END:STANDARD
END:VTIMEZONE
BEGIN:VEVENT
DTSTART;TZID=America/Denver:20210516T180000
DTEND;TZID=America/Denver:20210516T200000
DTSTAMP:20260420T211215
CREATED:20210426T235802Z
LAST-MODIFIED:20210426T235803Z
UID:10000603-1621188000-1621195200@al-anon-co.org
SUMMARY:AWSC meeting May 16
DESCRIPTION:
URL:https://al-anon-co.org/event/awsc-meeting-may-16/
LOCATION:Zoom online conference\, CO\, United States
CATEGORIES:Area Events
END:VEVENT
BEGIN:VEVENT
DTSTART;TZID=America/Denver:20210709T163000
DTEND;TZID=America/Denver:20210711T123000
DTSTAMP:20260420T211215
CREATED:20210412T023819Z
LAST-MODIFIED:20210623T200846Z
UID:10000601-1625848200-1626006600@al-anon-co.org
SUMMARY:2021 Summer Assembly
DESCRIPTION: 
URL:https://al-anon-co.org/event/2021-summer-assembly/
LOCATION:Burlington Old Town Museum\, 20 S 14th St\, Burlington\, CO\, 80807\, United States
CATEGORIES:Area Events,Assembly
ORGANIZER;CN="District 9 Representative":MAILTO:dr09@al-anon-co.org
END:VEVENT
BEGIN:VEVENT
DTSTART;TZID=America/Denver:20210903T150000
DTEND;TZID=America/Denver:20210905T150000
DTSTAMP:20260420T211215
CREATED:20210511T011351Z
LAST-MODIFIED:20210511T011404Z
UID:10000604-1630681200-1630854000@al-anon-co.org
SUMMARY:Colorado Area Alanon State Convention
DESCRIPTION:Labor Day Weekend 2021: September 3-5 \nKeystone Lodge and Spa\, Keystone \n\n\n\n\nAA Speakers: Scott S: Philadelphia\, PA Kate R: Cincinnati\, OH Brad M: Buena Vista\, CO \nAl-Anon Speakers: Corrie L: Wietumpkan\, AL John L and Dorothy L\, Denver\, CO \n\nContact: Allison at 303-981-3625
URL:https://al-anon-co.org/event/colorado-area-alanon-state-convention/
LOCATION:Keystone Lodge and Spa\, 22101 US 6\, Dillon\, CO\, 80435\, United States
CATEGORIES:Area Events
END:VEVENT
BEGIN:VEVENT
DTSTART;VALUE=DATE:20211001
DTEND;VALUE=DATE:20211004
DTSTAMP:20260420T211215
CREATED:20210707T202706Z
LAST-MODIFIED:20210819T234238Z
UID:10000602-1633046400-1633305599@al-anon-co.org
SUMMARY:Weekend in Alanon
DESCRIPTION:  \n\n\n\nSharing\nMeditation\nAmbling in Nature\nSpeakers\nGames\nFood\nSilent Auction\n\nPayment: Use your personal Venmo account to pay directly to the Venmo account @Colorado-AFG.\nPlease be sure to write WIA in BIG letters for the “What’s it for”.  If paying with check\, please indicate WIA on the memo line.  Don’t have a Venmo account?  Set one up by following the link .\n\n\nLoading…
URL:https://al-anon-co.org/event/weekend-in-alanon/
LOCATION:Glacier View Ranch\, 8748 Overland Rd\, Ward\, CO\, 80481\, United States
CATEGORIES:Area Events,WIA
ORGANIZER;CN="Tracy P":MAILTO:wia@al-anon-co.org
END:VEVENT
BEGIN:VEVENT
DTSTART;TZID=America/Denver:20211029T160000
DTEND;TZID=America/Denver:20211031T120000
DTSTAMP:20260420T211215
CREATED:20210925T011325Z
LAST-MODIFIED:20210926T001742Z
UID:10000600-1635523200-1635681600@al-anon-co.org
SUMMARY:2021 Winter Assembly
DESCRIPTION:A Full & Thankful Heart\nOpportunities for fellowship! \nEarly Bird and Night Owl Step meetings! \nSpeaker meetings! \n\n		\n			\n			\n		\n\n		\nDownload flyer here.
URL:https://al-anon-co.org/event/2021-winter-assembly/
LOCATION:Doubletree in Tech Center\, 7801 East Orchard Road\, Greenwood Village\, CO\, 80111\, United States
CATEGORIES:Area Events,Assembly
ORGANIZER;CN="District 12 Representative":MAILTO:dr12@al-anon-co.org
END:VEVENT
BEGIN:VEVENT
DTSTART;TZID=America/Denver:20220226T130000
DTEND;TZID=America/Denver:20220226T160000
DTSTAMP:20260420T211215
CREATED:20211231T041415Z
LAST-MODIFIED:20220105T234510Z
UID:10000606-1645880400-1645891200@al-anon-co.org
SUMMARY:2022 Sereni-Tea
DESCRIPTION:Please join us for the 2022 Sereni-Tea\, hosted by District 15 \nA Celebration of Recovery – “Happy\, Joyous and Free” \n\n\n\n\nDonation $12.00 (cash or check only\, please) \nInspirational AA and Al-Anon Speakers \nSilent Auction – Please donate items to auction \n\n\n\n\nCo-chairs: Shelly S. rocstephens@msn.com 720-203-8919 \nSusan C. susan816@comcast.net 303-910-6606.
URL:https://al-anon-co.org/event/2022-sereni-tea/
LOCATION:New Hope Presbyterian Church\, 3737 New Hope Way\, Castle Rock\, CO\, 80109\, United States
CATEGORIES:Area Events
ORGANIZER;CN="Shelly S":MAILTO:rocstephens@msn.com
END:VEVENT
BEGIN:VEVENT
DTSTART;TZID=America/Denver:20220710T133000
DTEND;TZID=America/Denver:20220710T160000
DTSTAMP:20260420T211215
CREATED:20220621T011822Z
LAST-MODIFIED:20220621T011823Z
UID:10000611-1657459800-1657468800@al-anon-co.org
SUMMARY:Sunday Afternoon Serenity Al-Anon - District 24
DESCRIPTION:
URL:https://al-anon-co.org/event/sunday-afternoon-serenity-al-anon-district-24/
LOCATION:Unity Club 102 E 3rd Loveland CO\, 102 E 3rd\, Loveland CO\, CO\, 80537\, United States
CATEGORIES:Area Events
END:VEVENT
BEGIN:VEVENT
DTSTART;TZID=America/Denver:20220722T180000
DTEND;TZID=America/Denver:20220724T120000
DTSTAMP:20260420T211215
CREATED:20220621T012344Z
LAST-MODIFIED:20220621T012344Z
UID:10000612-1658512800-1658664000@al-anon-co.org
SUMMARY:Summer Assembly - Area 5
DESCRIPTION:
URL:https://al-anon-co.org/event/summer-assembly-area-5/
LOCATION:Doubletree in Tech Center\, 7801 East Orchard Road\, Greenwood Village\, CO\, 80111\, United States
CATEGORIES:Area Events
END:VEVENT
BEGIN:VEVENT
DTSTART;TZID=America/Denver:20220826T150000
DTEND;TZID=America/Denver:20220828T120000
DTSTAMP:20260420T211215
CREATED:20220516T163234Z
LAST-MODIFIED:20220723T150719Z
UID:10000610-1661526000-1661688000@al-anon-co.org
SUMMARY:Colorado State Convention
DESCRIPTION:
URL:https://al-anon-co.org/event/colorado-state-convention/
LOCATION:CO\, United States
CATEGORIES:Area Events
END:VEVENT
BEGIN:VEVENT
DTSTART;TZID=America/Denver:20220917T110000
DTEND;TZID=America/Denver:20220917T150000
DTSTAMP:20260420T211215
CREATED:20220801T035244Z
LAST-MODIFIED:20220801T035347Z
UID:10000614-1663412400-1663426800@al-anon-co.org
SUMMARY:District 11 Fundraiser and Potluck
DESCRIPTION:
URL:https://al-anon-co.org/event/district-11-fundraiser-and-potluck/
LOCATION:2605 W 144th Ave\, Broomfield\, CO 80023\, 2605 W 144th Ave\, Broomfield\, CO\, 80023\, United States
CATEGORIES:Area Events
END:VEVENT
BEGIN:VEVENT
DTSTART;TZID=America/Denver:20220924T180000
DTEND;TZID=America/Denver:20220924T200000
DTSTAMP:20260420T211215
CREATED:20220825T133315Z
LAST-MODIFIED:20220825T133315Z
UID:10000617-1664042400-1664049600@al-anon-co.org
SUMMARY:Fundraiser - District 20 - Fall 2022
DESCRIPTION:
URL:https://al-anon-co.org/event/fundraiser-district-20-fall-2022/
LOCATION:Christ United Methodist Church\, 301 East Drake\, Fort Collins\, CO\, United States
CATEGORIES:Area Events,Fundraiser
END:VEVENT
BEGIN:VEVENT
DTSTART;TZID=America/Denver:20221007T170000
DTEND;TZID=America/Denver:20221009T120000
DTSTAMP:20260420T211215
CREATED:20220703T010514Z
LAST-MODIFIED:20220913T184555Z
UID:10000613-1665162000-1665316800@al-anon-co.org
SUMMARY:Weekend in Al-Anon
DESCRIPTION:  \n\n\n\nSharing\nMeditation\nAmbling in Nature\nSpeakers\nGames\nFood\nSilent Auction\n\nPayment: Use your personal Venmo account to pay directly to the Venmo account @Colorado-AFG.\nPlease be sure to write WIA in BIG letters for the “What’s it for”.  If paying with check\, please indicate WIA on the memo line.  Don’t have a Venmo account?  Set one up by following the link .\n\n\n﻿Loading…
URL:https://al-anon-co.org/event/weekend-in-al-anon-2/
LOCATION:8748 Overland Rd. Ward\, CO 80481\, CO\, United States
CATEGORIES:Area Events
END:VEVENT
BEGIN:VEVENT
DTSTART;TZID=America/Denver:20221104T170000
DTEND;TZID=America/Denver:20221106T120000
DTSTAMP:20260420T211215
CREATED:20220815T212922Z
LAST-MODIFIED:20220815T212923Z
UID:10000616-1667581200-1667736000@al-anon-co.org
SUMMARY:Winter Assembly - 2022
DESCRIPTION:
URL:https://al-anon-co.org/event/winter-assembly-2022/
LOCATION:Doubletree in Tech Center\, 7801 East Orchard Road\, Greenwood Village\, CO\, 80111\, United States
CATEGORIES:Area Events,Assembly
END:VEVENT
BEGIN:VEVENT
DTSTART;TZID=America/Denver:20221104T170000
DTEND;TZID=America/Denver:20221106T170000
DTSTAMP:20260420T211215
CREATED:20221008T004444Z
LAST-MODIFIED:20221008T004444Z
UID:10000595-1667581200-1667754000@al-anon-co.org
SUMMARY:Winter Assembly
DESCRIPTION:
URL:https://al-anon-co.org/event/winter-assembly/
LOCATION:Doubletree in Tech Center\, 7801 East Orchard Road\, Greenwood Village\, CO\, 80111\, United States
CATEGORIES:Area Events,Assembly
END:VEVENT
BEGIN:VEVENT
DTSTART;TZID=America/Denver:20230203T170000
DTEND;TZID=America/Denver:20230205T120000
DTSTAMP:20260420T211215
CREATED:20221212T223129Z
LAST-MODIFIED:20221212T230815Z
UID:10000619-1675443600-1675598400@al-anon-co.org
SUMMARY:Greeley AA Stampede
DESCRIPTION:Loading...\n						\n					\n					\n						\n							\n							Taking too long?\n						\n						\n							\n								 Reload document							\n							|\n							\n								 Open in new tab
URL:https://al-anon-co.org/event/greeley-aa-stampede/
LOCATION:Island Grove Park\, 425 N 15th Ave\, Greeley\, 80631
CATEGORIES:Area Events
END:VEVENT
BEGIN:VEVENT
DTSTART;TZID=America/Denver:20230228T193000
DTEND;TZID=America/Denver:20230228T203000
DTSTAMP:20260420T211215
CREATED:20230109T023901Z
LAST-MODIFIED:20230109T024325Z
UID:10000620-1677612600-1677616200@al-anon-co.org
SUMMARY:JOY Speaker Meeting
DESCRIPTION:Loading...\n						\n					\n					\n						\n							\n							Taking too long?\n						\n						\n							\n								 Reload document							\n							|\n							\n								 Open in new tab
URL:https://al-anon-co.org/event/joy-speaker-meeting/
LOCATION:Christ Our Savior Lutheran Church\, 640 Alpine Street\, Longmont\, CO\, CO\, 80504\, United States
CATEGORIES:Area Events
END:VEVENT
BEGIN:VEVENT
DTSTART;TZID=America/Denver:20230324T170000
DTEND;TZID=America/Denver:20230326T120000
DTSTAMP:20260420T211215
CREATED:20230131T011956Z
LAST-MODIFIED:20230131T012138Z
UID:10000624-1679677200-1679832000@al-anon-co.org
SUMMARY:Spring Assembly - 2023
DESCRIPTION:Loading...\n						\n					\n					\n						\n							\n							Taking too long?\n						\n						\n							\n								 Reload document							\n							|\n							\n								 Open in new tab
URL:https://al-anon-co.org/event/spring-assembly-2023/
LOCATION:Island Grove Park\, 425 N 15th Ave\, Greeley\, 80631
CATEGORIES:Area Events,Assembly
END:VEVENT
BEGIN:VEVENT
DTSTART;TZID=America/Denver:20230401T090000
DTEND;TZID=America/Denver:20230401T150000
DTSTAMP:20260420T211215
CREATED:20230203T163142Z
LAST-MODIFIED:20230203T163142Z
UID:10000626-1680339600-1680361200@al-anon-co.org
SUMMARY:Day in Al-Anon
DESCRIPTION:Loading...\n						\n					\n					\n						\n							\n							Taking too long?\n						\n						\n							\n								 Reload document							\n							|\n							\n								 Open in new tab
URL:https://al-anon-co.org/event/day-in-al-anon/
LOCATION:Grace Lutheran Colorado Springs\, 1128 E. Boulder St.\, Colorado Springs\, CO\, 80903\, United States
CATEGORIES:Area Events,DIA
END:VEVENT
BEGIN:VEVENT
DTSTART;TZID=America/Denver:20230422T110000
DTEND;TZID=America/Denver:20230422T140000
DTSTAMP:20260420T211215
CREATED:20230223T010100Z
LAST-MODIFIED:20230308T024337Z
UID:10000627-1682161200-1682172000@al-anon-co.org
SUMMARY:Spring Into Recovery
DESCRIPTION:Loading...\n						\n					\n					\n						\n							\n							Taking too long?\n						\n						\n							\n								 Reload document							\n							|\n							\n								 Open in new tab
URL:https://al-anon-co.org/event/spring-into-recovery/
LOCATION:Grace United Methodist Church\, 4905 E Yale Ave\, Denver\, CO\, 80222\, United States
CATEGORIES:Area Events
END:VEVENT
BEGIN:VEVENT
DTSTART;TZID=America/Denver:20230901T170000
DTEND;TZID=America/Denver:20230903T120000
DTSTAMP:20260420T211215
CREATED:20230308T022002Z
LAST-MODIFIED:20230816T022713Z
UID:10000629-1693587600-1693742400@al-anon-co.org
SUMMARY:2023 Colorado State Convention
DESCRIPTION:Loading...\n						\n					\n					\n						\n							\n							Taking too long?\n						\n						\n							\n								 Reload document							\n							|\n							\n								 Open in new tab							\n					\n				\n			\n		\n  \n			\n				\n					\n						\n							\n							Loading...\n						\n					\n					\n						\n							\n							Taking too long?\n						\n						\n							\n								 Reload document							\n							|\n							\n								 Open in new tab							\n					\n				\n			\n		\n  \n			\n				\n					\n						\n							\n							Loading...\n						\n					\n					\n						\n							\n							Taking too long?\n						\n						\n							\n								 Reload document							\n							|\n							\n								 Open in new tab							\n					\n				\n			\n		\n  \n			\n				\n					\n						\n							\n							Loading...\n						\n					\n					\n						\n							\n							Taking too long?\n						\n						\n							\n								 Reload document							\n							|\n							\n								 Open in new tab
URL:https://al-anon-co.org/event/2023-colorado-state-convention/
LOCATION:Island Grove Park\, 425 N 15th Ave\, Greeley\, 80631
CATEGORIES:Area Events
END:VEVENT
BEGIN:VEVENT
DTSTART;TZID=America/Denver:20230922T080000
DTEND;TZID=America/Denver:20230924T170000
DTSTAMP:20260420T211215
CREATED:20230911T014620Z
LAST-MODIFIED:20230911T014620Z
UID:10000634-1695369600-1695574800@al-anon-co.org
SUMMARY:Colordaze
DESCRIPTION:Loading...\n						\n					\n					\n						\n							\n							Taking too long?\n						\n						\n							\n								 Reload document							\n							|\n							\n								 Open in new tab
URL:https://al-anon-co.org/event/colordaze/
LOCATION:Crossroads United Methodist Church\, 599 30 Rd\, Grand Junction\, 81504\, United States
CATEGORIES:Area Events
END:VEVENT
BEGIN:VEVENT
DTSTART;TZID=America/Denver:20230924T140000
DTEND;TZID=America/Denver:20230924T170000
DTSTAMP:20260420T211215
CREATED:20230830T203114Z
LAST-MODIFIED:20230830T203114Z
UID:10000633-1695564000-1695574800@al-anon-co.org
SUMMARY:Sponsorship Workshop
DESCRIPTION:
URL:https://al-anon-co.org/event/sponsorship-workshop/
LOCATION:Southeast Aurora Club\, 16732 East Iliff Ave\, Aurora\, 80013\, United States
CATEGORIES:Area Events
END:VEVENT
BEGIN:VEVENT
DTSTART;TZID=America/Denver:20231201T173000
DTEND;TZID=America/Denver:20231201T200000
DTSTAMP:20260420T211215
CREATED:20231030T195651Z
LAST-MODIFIED:20231030T195651Z
UID:10000636-1701451800-1701460800@al-anon-co.org
SUMMARY:Recovery Through The Arts - Fundraiser
DESCRIPTION:Loading...\n						\n					\n					\n						\n							\n							Taking too long?\n						\n						\n							\n								 Reload document							\n							|\n							\n								 Open in new tab
URL:https://al-anon-co.org/event/recovery-through-the-arts-fundraiser/
LOCATION:Montclair Civic Center\, 6820 E 12th Ave\, Denver\, 80220\, United States
CATEGORIES:Area Events
END:VEVENT
BEGIN:VEVENT
DTSTART;TZID=America/Denver:20240302T110000
DTEND;TZID=America/Denver:20240302T143000
DTSTAMP:20260420T211215
CREATED:20240129T022733Z
LAST-MODIFIED:20240129T022733Z
UID:10000640-1709377200-1709389800@al-anon-co.org
SUMMARY:District 11 Fellowship and Fundraiser Event
DESCRIPTION:Loading...\n						\n					\n					\n						\n							\n							Taking too long?\n						\n						\n							\n								 Reload document							\n							|\n							\n								 Open in new tab
URL:https://al-anon-co.org/event/district-11-fellowship-and-fundraiser-event/
LOCATION:Discovery – A Christian Church\, 2605 W 144th Ave\, Broomfield\, 80023\, United States
CATEGORIES:Area Events
END:VEVENT
BEGIN:VEVENT
DTSTART;TZID=America/Denver:20240309T130000
DTEND;TZID=America/Denver:20240309T160000
DTSTAMP:20260420T211215
CREATED:20240223T020719Z
LAST-MODIFIED:20240223T020719Z
UID:10000641-1709989200-1710000000@al-anon-co.org
SUMMARY:SERENI-TEA
DESCRIPTION:Loading...\n						\n					\n					\n						\n							\n							Taking too long?\n						\n						\n							\n								 Reload document							\n							|\n							\n								 Open in new tab
URL:https://al-anon-co.org/event/sereni-tea-2/
LOCATION:New Hope Presbyterian Church\, 3737 New Hope Way\, Castle Rock\, CO\, 80109\, United States
CATEGORIES:Area Events
END:VEVENT
BEGIN:VEVENT
DTSTART;TZID=America/Denver:20240322T170000
DTEND;TZID=America/Denver:20240324T170000
DTSTAMP:20260420T211215
CREATED:20240122T154449Z
LAST-MODIFIED:20240122T155240Z
UID:10000639-1711126800-1711299600@al-anon-co.org
SUMMARY:Spring Assembly 2024 Flyer (Spanish)
DESCRIPTION:Loading...\n						\n					\n					\n						\n							\n							Taking too long?\n						\n						\n							\n								 Reload document							\n							|\n							\n								 Open in new tab
URL:https://al-anon-co.org/event/spring-assembly-2024-flyer-spanish/
LOCATION:Doubltree Hotel – Grand Junction\, 743 Horizon Drive\, Grand Junction\, 81506\, United States
CATEGORIES:Area Events,Assembly
END:VEVENT
BEGIN:VEVENT
DTSTART;TZID=America/Denver:20240420T090000
DTEND;TZID=America/Denver:20240420T153000
DTSTAMP:20260420T211215
CREATED:20240122T153944Z
LAST-MODIFIED:20240311T214332Z
UID:10000638-1713603600-1713627000@al-anon-co.org
SUMMARY:DAY IN AL-ANON
DESCRIPTION:Loading...\n						\n					\n					\n						\n							\n							Taking too long?\n						\n						\n							\n								 Reload document							\n							|\n							\n								 Open in new tab
URL:https://al-anon-co.org/event/day-in-al-anon-2/
LOCATION:Harmony Presbyterian Church\, 400 Boardwalk Drive\, Fort Collins\, 80525\, United States
CATEGORIES:Area Events
END:VEVENT
BEGIN:VEVENT
DTSTART;TZID=America/Denver:20240518T110000
DTEND;TZID=America/Denver:20240518T140000
DTSTAMP:20260420T211215
CREATED:20240323T225615Z
LAST-MODIFIED:20240323T225615Z
UID:10000642-1716030000-1716040800@al-anon-co.org
SUMMARY:Spring Into Recovery
DESCRIPTION:Loading...\n						\n					\n					\n						\n							\n							Taking too long?\n						\n						\n							\n								 Reload document							\n							|\n							\n								 Open in new tab
URL:https://al-anon-co.org/event/spring-into-recovery-2/
LOCATION:Wellshire Presbyterian Church\, 2999 S. Colorado Blvd.\, Denver\, 80222\, United States
CATEGORIES:Area Events
END:VEVENT
BEGIN:VEVENT
DTSTART;TZID=America/Denver:20240702T193000
DTEND;TZID=America/Denver:20240702T203000
DTSTAMP:20260420T211215
CREATED:20240502T170744Z
LAST-MODIFIED:20240502T171520Z
UID:10000643-1719948600-1719952200@al-anon-co.org
SUMMARY:JOY Speaker Meeting - July 2\, 2024
DESCRIPTION:Loading...\n						\n					\n					\n						\n							\n							Taking too long?\n						\n						\n							\n								 Reload document							\n							|\n							\n								 Open in new tab
URL:https://al-anon-co.org/event/joy-speaker-meeting-july-2-2024/
CATEGORIES:Area Events
END:VEVENT
BEGIN:VEVENT
DTSTART;TZID=America/Denver:20240712T080000
DTEND;TZID=America/Denver:20240714T170000
DTSTAMP:20260420T211215
CREATED:20240506T201010Z
LAST-MODIFIED:20240506T201010Z
UID:10000644-1720771200-1720976400@al-anon-co.org
SUMMARY:Summer Assembly
DESCRIPTION:Loading...\n						\n					\n					\n						\n							\n							Taking too long?\n						\n						\n							\n								 Reload document							\n							|\n							\n								 Open in new tab
URL:https://al-anon-co.org/event/summer-assembly/
LOCATION:734 Horizon DrGrand Junction\, CO 81506\, 734 Horizon Dr\, Grand Junction\, 81506\, United States
CATEGORIES:Area Events,Assembly
END:VEVENT
END:VCALENDAR