BEGIN:VCALENDAR
VERSION:2.0
PRODID:-//Colorado Al-Anon/Alateen Family Groups - ECPv6.15.20//NONSGML v1.0//EN
CALSCALE:GREGORIAN
METHOD:PUBLISH
X-WR-CALNAME:Colorado Al-Anon/Alateen Family Groups
X-ORIGINAL-URL:https://al-anon-co.org
X-WR-CALDESC:Events for Colorado Al-Anon/Alateen Family Groups
REFRESH-INTERVAL;VALUE=DURATION:PT1H
X-Robots-Tag:noindex
X-PUBLISHED-TTL:PT1H
BEGIN:VTIMEZONE
TZID:America/Denver
BEGIN:DAYLIGHT
TZOFFSETFROM:-0700
TZOFFSETTO:-0600
TZNAME:MDT
DTSTART:20200308T090000
END:DAYLIGHT
BEGIN:STANDARD
TZOFFSETFROM:-0600
TZOFFSETTO:-0700
TZNAME:MST
DTSTART:20201101T080000
END:STANDARD
BEGIN:DAYLIGHT
TZOFFSETFROM:-0700
TZOFFSETTO:-0600
TZNAME:MDT
DTSTART:20210314T090000
END:DAYLIGHT
BEGIN:STANDARD
TZOFFSETFROM:-0600
TZOFFSETTO:-0700
TZNAME:MST
DTSTART:20211107T080000
END:STANDARD
BEGIN:DAYLIGHT
TZOFFSETFROM:-0700
TZOFFSETTO:-0600
TZNAME:MDT
DTSTART:20220313T090000
END:DAYLIGHT
BEGIN:STANDARD
TZOFFSETFROM:-0600
TZOFFSETTO:-0700
TZNAME:MST
DTSTART:20221106T080000
END:STANDARD
BEGIN:DAYLIGHT
TZOFFSETFROM:-0700
TZOFFSETTO:-0600
TZNAME:MDT
DTSTART:20230312T090000
END:DAYLIGHT
BEGIN:STANDARD
TZOFFSETFROM:-0600
TZOFFSETTO:-0700
TZNAME:MST
DTSTART:20231105T080000
END:STANDARD
BEGIN:DAYLIGHT
TZOFFSETFROM:-0700
TZOFFSETTO:-0600
TZNAME:MDT
DTSTART:20240310T090000
END:DAYLIGHT
BEGIN:STANDARD
TZOFFSETFROM:-0600
TZOFFSETTO:-0700
TZNAME:MST
DTSTART:20241103T080000
END:STANDARD
BEGIN:DAYLIGHT
TZOFFSETFROM:-0700
TZOFFSETTO:-0600
TZNAME:MDT
DTSTART:20250309T090000
END:DAYLIGHT
BEGIN:STANDARD
TZOFFSETFROM:-0600
TZOFFSETTO:-0700
TZNAME:MST
DTSTART:20251102T080000
END:STANDARD
END:VTIMEZONE
BEGIN:VEVENT
DTSTART;VALUE=DATE:20211001
DTEND;VALUE=DATE:20211004
DTSTAMP:20260420T155640
CREATED:20210707T202706Z
LAST-MODIFIED:20210819T234238Z
UID:10000602-1633046400-1633305599@al-anon-co.org
SUMMARY:Weekend in Alanon
DESCRIPTION:  \n\n\n\nSharing\nMeditation\nAmbling in Nature\nSpeakers\nGames\nFood\nSilent Auction\n\nPayment: Use your personal Venmo account to pay directly to the Venmo account @Colorado-AFG.\nPlease be sure to write WIA in BIG letters for the “What’s it for”.  If paying with check\, please indicate WIA on the memo line.  Don’t have a Venmo account?  Set one up by following the link .\n\n\nLoading…
URL:https://al-anon-co.org/event/weekend-in-alanon/
LOCATION:Glacier View Ranch\, 8748 Overland Rd\, Ward\, CO\, 80481\, United States
CATEGORIES:Area Events,WIA
ORGANIZER;CN="Tracy P":MAILTO:wia@al-anon-co.org
END:VEVENT
BEGIN:VEVENT
DTSTART;TZID=America/Denver:20231006T170000
DTEND;TZID=America/Denver:20231008T120000
DTSTAMP:20260420T155640
CREATED:20230301T022905Z
LAST-MODIFIED:20230706T023654Z
UID:10000628-1696611600-1696766400@al-anon-co.org
SUMMARY:Weekend in AlAnon - 2023
DESCRIPTION:REGISTER HERE: https://forms.gle/Vf7EqqH7TmBDj38c7 \n			\n				\n					\n						\n							\n							Loading...\n						\n					\n					\n						\n							\n							Taking too long?\n						\n						\n							\n								 Reload document							\n							|\n							\n								 Open in new tab
URL:https://al-anon-co.org/event/weekend-in-alanon-2023/
LOCATION:Glacier View Ranch\, 8748 Overland Rd\, Ward\, CO\, 80481\, United States
CATEGORIES:WIA
END:VEVENT
BEGIN:VEVENT
DTSTART;TZID=America/Denver:20241004T080000
DTEND;TZID=America/Denver:20241006T170000
DTSTAMP:20260420T155640
CREATED:20240717T232116Z
LAST-MODIFIED:20240825T182808Z
UID:10000646-1728028800-1728234000@al-anon-co.org
SUMMARY:Weekend In Al-Anon - 2024
DESCRIPTION:Loading...\n						\n					\n					\n						\n							\n							Taking too long?\n						\n						\n							\n								 Reload document							\n							|\n							\n								 Open in new tab							\n					\n				\n			\n		\n  \n			\n				\n					\n						\n							\n							Loading...\n						\n					\n					\n						\n							\n							Taking too long?\n						\n						\n							\n								 Reload document							\n							|\n							\n								 Open in new tab
URL:https://al-anon-co.org/event/weekend-in-al-anon-2024/
LOCATION:Glacier View Ranch\, 8748 Overland Rd\, Ward\, CO\, 80481\, United States
CATEGORIES:Area Events,WIA
END:VEVENT
END:VCALENDAR