BEGIN:VCALENDAR
VERSION:2.0
PRODID:-//Colorado Al-Anon/Alateen Family Groups - ECPv6.15.20//NONSGML v1.0//EN
CALSCALE:GREGORIAN
METHOD:PUBLISH
X-ORIGINAL-URL:https://al-anon-co.org
X-WR-CALDESC:Events for Colorado Al-Anon/Alateen Family Groups
REFRESH-INTERVAL;VALUE=DURATION:PT1H
X-Robots-Tag:noindex
X-PUBLISHED-TTL:PT1H
BEGIN:VTIMEZONE
TZID:America/Denver
BEGIN:DAYLIGHT
TZOFFSETFROM:-0700
TZOFFSETTO:-0600
TZNAME:MDT
DTSTART:20190310T090000
END:DAYLIGHT
BEGIN:STANDARD
TZOFFSETFROM:-0600
TZOFFSETTO:-0700
TZNAME:MST
DTSTART:20191103T080000
END:STANDARD
BEGIN:DAYLIGHT
TZOFFSETFROM:-0700
TZOFFSETTO:-0600
TZNAME:MDT
DTSTART:20200308T090000
END:DAYLIGHT
BEGIN:STANDARD
TZOFFSETFROM:-0600
TZOFFSETTO:-0700
TZNAME:MST
DTSTART:20201101T080000
END:STANDARD
BEGIN:DAYLIGHT
TZOFFSETFROM:-0700
TZOFFSETTO:-0600
TZNAME:MDT
DTSTART:20210314T090000
END:DAYLIGHT
BEGIN:STANDARD
TZOFFSETFROM:-0600
TZOFFSETTO:-0700
TZNAME:MST
DTSTART:20211107T080000
END:STANDARD
BEGIN:DAYLIGHT
TZOFFSETFROM:-0700
TZOFFSETTO:-0600
TZNAME:MDT
DTSTART:20220313T090000
END:DAYLIGHT
BEGIN:STANDARD
TZOFFSETFROM:-0600
TZOFFSETTO:-0700
TZNAME:MST
DTSTART:20221106T080000
END:STANDARD
END:VTIMEZONE
BEGIN:VEVENT
DTSTART;TZID=America/Denver:20210516T180000
DTEND;TZID=America/Denver:20210516T200000
DTSTAMP:20260420T155027
CREATED:20210426T235802Z
LAST-MODIFIED:20210426T235803Z
UID:10000603-1621188000-1621195200@al-anon-co.org
SUMMARY:AWSC meeting May 16
DESCRIPTION:
URL:https://al-anon-co.org/event/awsc-meeting-may-16/
LOCATION:Zoom online conference\, CO\, United States
CATEGORIES:Area Events
END:VEVENT
BEGIN:VEVENT
DTSTART;TZID=America/Denver:20210319T183000
DTEND;TZID=America/Denver:20210320T200000
DTSTAMP:20260420T155027
CREATED:20210104T000950Z
LAST-MODIFIED:20210309T001705Z
UID:10000012-1616178600-1616270400@al-anon-co.org
SUMMARY:Spring Assembly 2021
DESCRIPTION:The agenda (in English and Spanish) and all the documents for the Assembly can be found here.
URL:https://al-anon-co.org/event/spring-assembly-2021/
LOCATION:Zoom online conference\, CO\, United States
CATEGORIES:Area Events,Assembly
ATTACH;FMTTYPE=image/jpeg:https://al-anon-co.org/wp-content/uploads/2021/01/Image4Cal.jpg
END:VEVENT
BEGIN:VEVENT
DTSTART;TZID=America/Denver:20201113T190000
DTEND;TZID=America/Denver:20201114T200000
DTSTAMP:20260420T155027
CREATED:20200508T003516Z
LAST-MODIFIED:20201102T234046Z
UID:10000046-1605294000-1605384000@al-anon-co.org
SUMMARY:2020 Virtual Winter Assembly
DESCRIPTION:The 2020 Colorado Area Winter Assembly will be held as a Zoom meeting.  The schedule is rapidly taking shape. \nStay tuned for a flyer!
URL:https://al-anon-co.org/event/2020-winter-assembly/
LOCATION:Zoom online conference\, CO\, United States
CATEGORIES:Area Events,Assembly
END:VEVENT
BEGIN:VEVENT
DTSTART;TZID=America/Denver:20200724T190000
DTEND;TZID=America/Denver:20200725T160000
DTSTAMP:20260420T155027
CREATED:20200303T195120Z
LAST-MODIFIED:20200722T221022Z
UID:10000050-1595617200-1595692800@al-anon-co.org
SUMMARY:Colorado Area Summer Assembly 2020: ONLINE Zoom teleconference
DESCRIPTION:Theme: Easy Does It \nAll members\, and Group Representatives and District Representatives\, should have received detailed information about the Agenda and how to connect to our several scheduled meetings.  See you there!
URL:https://al-anon-co.org/event/colorado-area-summer-assembly-2020-montrose/
LOCATION:Zoom online conference\, CO\, United States
CATEGORIES:Area Events,Assembly
END:VEVENT
END:VCALENDAR