BEGIN:VCALENDAR
VERSION:2.0
PRODID:-//Colorado Al-Anon/Alateen Family Groups - ECPv6.15.20//NONSGML v1.0//EN
CALSCALE:GREGORIAN
METHOD:PUBLISH
X-WR-CALNAME:Colorado Al-Anon/Alateen Family Groups
X-ORIGINAL-URL:https://al-anon-co.org
X-WR-CALDESC:Events for Colorado Al-Anon/Alateen Family Groups
REFRESH-INTERVAL;VALUE=DURATION:PT1H
X-Robots-Tag:noindex
X-PUBLISHED-TTL:PT1H
BEGIN:VTIMEZONE
TZID:America/Denver
BEGIN:DAYLIGHT
TZOFFSETFROM:-0700
TZOFFSETTO:-0600
TZNAME:MDT
DTSTART:20210314T090000
END:DAYLIGHT
BEGIN:STANDARD
TZOFFSETFROM:-0600
TZOFFSETTO:-0700
TZNAME:MST
DTSTART:20211107T080000
END:STANDARD
BEGIN:DAYLIGHT
TZOFFSETFROM:-0700
TZOFFSETTO:-0600
TZNAME:MDT
DTSTART:20220313T090000
END:DAYLIGHT
BEGIN:STANDARD
TZOFFSETFROM:-0600
TZOFFSETTO:-0700
TZNAME:MST
DTSTART:20221106T080000
END:STANDARD
BEGIN:DAYLIGHT
TZOFFSETFROM:-0700
TZOFFSETTO:-0600
TZNAME:MDT
DTSTART:20230312T090000
END:DAYLIGHT
BEGIN:STANDARD
TZOFFSETFROM:-0600
TZOFFSETTO:-0700
TZNAME:MST
DTSTART:20231105T080000
END:STANDARD
BEGIN:DAYLIGHT
TZOFFSETFROM:-0700
TZOFFSETTO:-0600
TZNAME:MDT
DTSTART:20240310T090000
END:DAYLIGHT
BEGIN:STANDARD
TZOFFSETFROM:-0600
TZOFFSETTO:-0700
TZNAME:MST
DTSTART:20241103T080000
END:STANDARD
END:VTIMEZONE
BEGIN:VEVENT
DTSTART;TZID=America/Denver:20230901T170000
DTEND;TZID=America/Denver:20230903T120000
DTSTAMP:20260420T075952
CREATED:20230308T022002Z
LAST-MODIFIED:20230816T022713Z
UID:10000629-1693587600-1693742400@al-anon-co.org
SUMMARY:2023 Colorado State Convention
DESCRIPTION:Loading...\n						\n					\n					\n						\n							\n							Taking too long?\n						\n						\n							\n								 Reload document							\n							|\n							\n								 Open in new tab							\n					\n				\n			\n		\n  \n			\n				\n					\n						\n							\n							Loading...\n						\n					\n					\n						\n							\n							Taking too long?\n						\n						\n							\n								 Reload document							\n							|\n							\n								 Open in new tab							\n					\n				\n			\n		\n  \n			\n				\n					\n						\n							\n							Loading...\n						\n					\n					\n						\n							\n							Taking too long?\n						\n						\n							\n								 Reload document							\n							|\n							\n								 Open in new tab							\n					\n				\n			\n		\n  \n			\n				\n					\n						\n							\n							Loading...\n						\n					\n					\n						\n							\n							Taking too long?\n						\n						\n							\n								 Reload document							\n							|\n							\n								 Open in new tab
URL:https://al-anon-co.org/event/2023-colorado-state-convention/
LOCATION:Island Grove Park\, 425 N 15th Ave\, Greeley\, 80631
CATEGORIES:Area Events
END:VEVENT
BEGIN:VEVENT
DTSTART;TZID=America/Denver:20230324T170000
DTEND;TZID=America/Denver:20230326T120000
DTSTAMP:20260420T075952
CREATED:20230131T011956Z
LAST-MODIFIED:20230131T012138Z
UID:10000624-1679677200-1679832000@al-anon-co.org
SUMMARY:Spring Assembly - 2023
DESCRIPTION:Loading...\n						\n					\n					\n						\n							\n							Taking too long?\n						\n						\n							\n								 Reload document							\n							|\n							\n								 Open in new tab
URL:https://al-anon-co.org/event/spring-assembly-2023/
LOCATION:Island Grove Park\, 425 N 15th Ave\, Greeley\, 80631
CATEGORIES:Area Events,Assembly
END:VEVENT
BEGIN:VEVENT
DTSTART;TZID=America/Denver:20230203T170000
DTEND;TZID=America/Denver:20230205T120000
DTSTAMP:20260420T075952
CREATED:20221212T223129Z
LAST-MODIFIED:20221212T230815Z
UID:10000619-1675443600-1675598400@al-anon-co.org
SUMMARY:Greeley AA Stampede
DESCRIPTION:Loading...\n						\n					\n					\n						\n							\n							Taking too long?\n						\n						\n							\n								 Reload document							\n							|\n							\n								 Open in new tab
URL:https://al-anon-co.org/event/greeley-aa-stampede/
LOCATION:Island Grove Park\, 425 N 15th Ave\, Greeley\, 80631
CATEGORIES:Area Events
END:VEVENT
BEGIN:VEVENT
DTSTART;TZID=America/Denver:20220204T160000
DTEND;TZID=America/Denver:20220206T120000
DTSTAMP:20260420T075952
CREATED:20211130T023414Z
LAST-MODIFIED:20211204T213003Z
UID:10000597-1643990400-1644148800@al-anon-co.org
SUMMARY:70th Annual Greeley AA/Al-Anon Stampede
DESCRIPTION:Download the flyer here with preregistration info and the program. \n  \nAA and AlAnon speakers\, events\, raffles\, marathon meetings\, entertainment and more! \nThe early registration fee is $20 and you can register here. \nHotel rooms at the Hampton Inn are only minutes from the event (free shuttle from the hotel) and are available at a discount to attendees. \n 
URL:https://al-anon-co.org/event/greeley-aa-stampede-with-alanon-participation/
LOCATION:Island Grove Park\, 425 N 15th Ave\, Greeley\, 80631
CATEGORIES:Other Events
END:VEVENT
END:VCALENDAR