BEGIN:VCALENDAR
VERSION:2.0
PRODID:-//Colorado Al-Anon/Alateen Family Groups - ECPv6.15.20//NONSGML v1.0//EN
CALSCALE:GREGORIAN
METHOD:PUBLISH
X-ORIGINAL-URL:https://al-anon-co.org
X-WR-CALDESC:Events for Colorado Al-Anon/Alateen Family Groups
REFRESH-INTERVAL;VALUE=DURATION:PT1H
X-Robots-Tag:noindex
X-PUBLISHED-TTL:PT1H
BEGIN:VTIMEZONE
TZID:America/Denver
BEGIN:DAYLIGHT
TZOFFSETFROM:-0700
TZOFFSETTO:-0600
TZNAME:MDT
DTSTART:20180311T090000
END:DAYLIGHT
BEGIN:STANDARD
TZOFFSETFROM:-0600
TZOFFSETTO:-0700
TZNAME:MST
DTSTART:20181104T080000
END:STANDARD
BEGIN:DAYLIGHT
TZOFFSETFROM:-0700
TZOFFSETTO:-0600
TZNAME:MDT
DTSTART:20190310T090000
END:DAYLIGHT
BEGIN:STANDARD
TZOFFSETFROM:-0600
TZOFFSETTO:-0700
TZNAME:MST
DTSTART:20191103T080000
END:STANDARD
BEGIN:DAYLIGHT
TZOFFSETFROM:-0700
TZOFFSETTO:-0600
TZNAME:MDT
DTSTART:20200308T090000
END:DAYLIGHT
BEGIN:STANDARD
TZOFFSETFROM:-0600
TZOFFSETTO:-0700
TZNAME:MST
DTSTART:20201101T080000
END:STANDARD
END:VTIMEZONE
BEGIN:VEVENT
DTSTART;TZID=America/Denver:20190914T110000
DTEND;TZID=America/Denver:20190914T150000
DTSTAMP:20260422T045623
CREATED:20190607T140904Z
LAST-MODIFIED:20190611T102315Z
UID:10000049-1568458800-1568473200@al-anon-co.org
SUMMARY:District 14 Chili Luncheon 2019
DESCRIPTION:Please join us for our 34th Annual Fundraiser Event \nCo-hosted by Denver Area Service Center!\nHomemade Chili provided by District 14 Group\nMembers – Spicy\, Mild & Veggie\, with Salad Bar!\nSpeakers each share their journey in Al-Anon Service \nDownload PDF Flier
URL:https://al-anon-co.org/event/district-14-chili-lucheon-2019/
LOCATION:MOUNT OLIVE LUTHERAN CHURCH\, 11453 E Wesley Ave\, Aurora\, CO\, 80014\, United States
CATEGORIES:Other Events
ORGANIZER;CN="District 14 Representative":MAILTO:dr14@al-anon-co.org
END:VEVENT
END:VCALENDAR